BEGIN:VCALENDAR
VERSION:2.0
PRODID:-//Mimmit - ECPv6.0.2//NONSGML v1.0//EN
CALSCALE:GREGORIAN
METHOD:PUBLISH
X-ORIGINAL-URL:https://mimmit.com
X-WR-CALDESC:Tapahtumat Mimmit
REFRESH-INTERVAL;VALUE=DURATION:PT1H
X-Robots-Tag:noindex
X-PUBLISHED-TTL:PT1H
BEGIN:VTIMEZONE
TZID:Europe/Helsinki
BEGIN:DAYLIGHT
TZOFFSETFROM:+0200
TZOFFSETTO:+0300
TZNAME:EEST
DTSTART:20180325T010000
END:DAYLIGHT
BEGIN:STANDARD
TZOFFSETFROM:+0300
TZOFFSETTO:+0200
TZNAME:EET
DTSTART:20181028T010000
END:STANDARD
BEGIN:DAYLIGHT
TZOFFSETFROM:+0200
TZOFFSETTO:+0300
TZNAME:EEST
DTSTART:20190331T010000
END:DAYLIGHT
BEGIN:STANDARD
TZOFFSETFROM:+0300
TZOFFSETTO:+0200
TZNAME:EET
DTSTART:20191027T010000
END:STANDARD
END:VTIMEZONE
BEGIN:VEVENT
DTSTART;TZID=Europe/Helsinki:20180321T123000
DTEND;TZID=Europe/Helsinki:20180321T133000
DTSTAMP:20260426T015204
CREATED:20180212T074443Z
LAST-MODIFIED:20180212T074443Z
UID:1707-1521635400-1521639000@mimmit.com
SUMMARY:Mimmit & Turun Filharmooninen orkeskeri\, koululaiskonsertti
DESCRIPTION:
URL:https://mimmit.com/keikka/mimmit-turun-filharmooninen-orkeskeri-koululaiskonsertti/
LOCATION:Turun konserttitalo\, Aninkaistenkatu 9\, Turku\, 20100\, Suomi
END:VEVENT
BEGIN:VEVENT
DTSTART;TZID=Europe/Helsinki:20180322T103000
DTEND;TZID=Europe/Helsinki:20180322T113000
DTSTAMP:20260426T015204
CREATED:20180212T074653Z
LAST-MODIFIED:20180212T074653Z
UID:1710-1521714600-1521718200@mimmit.com
SUMMARY:Mimmit & Turun Filharmooninen orkesteri\, koululaiskonsertti
DESCRIPTION:
URL:https://mimmit.com/keikka/mimmit-turun-filharmooninen-orkesteri-koululaiskonsertti/
LOCATION:Turun konserttitalo\, Aninkaistenkatu 9\, Turku\, 20100\, Suomi
END:VEVENT
BEGIN:VEVENT
DTSTART;TZID=Europe/Helsinki:20180322T123000
DTEND;TZID=Europe/Helsinki:20180322T133000
DTSTAMP:20260426T015204
CREATED:20180212T074805Z
LAST-MODIFIED:20180212T074805Z
UID:1712-1521721800-1521725400@mimmit.com
SUMMARY:Mimmit & Turun Filharmooninen orkesteri\, koululaiskonsertti
DESCRIPTION:
URL:https://mimmit.com/keikka/mimmit-turun-filharmooninen-orkesteri-koululaiskonsertti-2/
LOCATION:Turun konserttitalo\, Aninkaistenkatu 9\, Turku\, 20100\, Suomi
END:VEVENT
BEGIN:VEVENT
DTSTART;TZID=Europe/Helsinki:20180323T103000
DTEND;TZID=Europe/Helsinki:20180323T113000
DTSTAMP:20260426T015204
CREATED:20180212T074916Z
LAST-MODIFIED:20180212T074916Z
UID:1714-1521801000-1521804600@mimmit.com
SUMMARY:Mimmit & Turun Filharmooninen orkesteri
DESCRIPTION:
URL:https://mimmit.com/keikka/mimmit-turun-filharmooninen-orkesteri/
LOCATION:Turun konserttitalo\, Aninkaistenkatu 9\, Turku\, 20100\, Suomi
END:VEVENT
BEGIN:VEVENT
DTSTART;TZID=Europe/Helsinki:20180324T150000
DTEND;TZID=Europe/Helsinki:20180324T160000
DTSTAMP:20260426T015204
CREATED:20180212T075338Z
LAST-MODIFIED:20180212T075338Z
UID:1716-1521903600-1521907200@mimmit.com
SUMMARY:Mimmit & Turun Filharmooninen orkesteri\, Muskari-konsertti
DESCRIPTION:
URL:https://mimmit.com/keikka/mimmit-turun-filharmooninen-orkesteri-muskari-konsertti/
LOCATION:Turun konserttitalo\, Aninkaistenkatu 9\, Turku\, 20100\, Suomi
END:VEVENT
BEGIN:VEVENT
DTSTART;TZID=Europe/Helsinki:20180424T090000
DTEND;TZID=Europe/Helsinki:20180424T110000
DTSTAMP:20260426T015204
CREATED:20180419T075944Z
LAST-MODIFIED:20180419T075944Z
UID:1722-1524560400-1524567600@mimmit.com
SUMMARY:Mimmit-konsertti
DESCRIPTION:
URL:https://mimmit.com/keikka/mimmit-konsertti/
END:VEVENT
BEGIN:VEVENT
DTSTART;VALUE=DATE:20180425
DTEND;VALUE=DATE:20180426
DTSTAMP:20260426T015204
CREATED:20180419T080110Z
LAST-MODIFIED:20180419T080110Z
UID:1724-1524614400-1524700799@mimmit.com
SUMMARY:Licensing Expo Japan
DESCRIPTION:
URL:https://mimmit.com/keikka/licensing-expo-japan/
END:VEVENT
BEGIN:VEVENT
DTSTART;VALUE=DATE:20180426
DTEND;VALUE=DATE:20180427
DTSTAMP:20260426T015204
CREATED:20180419T080152Z
LAST-MODIFIED:20180419T080152Z
UID:1726-1524700800-1524787199@mimmit.com
SUMMARY:Licensing Expo Japan
DESCRIPTION:
URL:https://mimmit.com/keikka/licensing-expo-japan-2/
END:VEVENT
BEGIN:VEVENT
DTSTART;VALUE=DATE:20180427
DTEND;VALUE=DATE:20180428
DTSTAMP:20260426T015204
CREATED:20180419T080221Z
LAST-MODIFIED:20180419T080221Z
UID:1728-1524787200-1524873599@mimmit.com
SUMMARY:Licensing Expo Japan
DESCRIPTION:
URL:https://mimmit.com/keikka/licensing-expo-japan-3/
LOCATION:Tokyo Big Sight West Hall
END:VEVENT
BEGIN:VEVENT
DTSTART;TZID=Europe/Helsinki:20180512T120000
DTEND;TZID=Europe/Helsinki:20180512T130000
DTSTAMP:20260426T015204
CREATED:20180419T080437Z
LAST-MODIFIED:20180419T080437Z
UID:1731-1526126400-1526130000@mimmit.com
SUMMARY:Lasten Espoo
DESCRIPTION:
URL:https://mimmit.com/keikka/lasten-espoo/
LOCATION:Kauppakeskus Sello
END:VEVENT
BEGIN:VEVENT
DTSTART;TZID=Europe/Helsinki:20180825T103000
DTEND;TZID=Europe/Helsinki:20180825T113000
DTSTAMP:20260426T015204
CREATED:20180817T064923Z
LAST-MODIFIED:20180817T064923Z
UID:1736-1535193000-1535196600@mimmit.com
SUMMARY:Mimmit Ystävyys-konsertti
DESCRIPTION:
URL:https://mimmit.com/keikka/mimmit-ystavyys-konsertti/
LOCATION:Sellosali\, Soittoniekanaukio 1 A\, Espoo\, 02600\, Suomi
END:VEVENT
BEGIN:VEVENT
DTSTART;TZID=Europe/Helsinki:20180825T123000
DTEND;TZID=Europe/Helsinki:20180825T133000
DTSTAMP:20260426T015204
CREATED:20180817T065008Z
LAST-MODIFIED:20180817T065008Z
UID:1739-1535200200-1535203800@mimmit.com
SUMMARY:Mimmit\, Ystävyys-konsertti
DESCRIPTION:
URL:https://mimmit.com/keikka/mimmit-ystavyys-konsertti-2/
LOCATION:Sellosali\, Soittoniekanaukio 1 A\, Espoo\, 02600\, Suomi
END:VEVENT
BEGIN:VEVENT
DTSTART;TZID=Europe/Helsinki:20180902T120000
DTEND;TZID=Europe/Helsinki:20180902T133000
DTSTAMP:20260426T015204
CREATED:20180817T065230Z
LAST-MODIFIED:20180817T065230Z
UID:1741-1535889600-1535895000@mimmit.com
SUMMARY:Mimmit\, Ystävyys-konsertti
DESCRIPTION:
URL:https://mimmit.com/keikka/mimmit-ystavyys-konsertti-3/
LOCATION:Villatehdas\, Hyvinkää\, Suomi
END:VEVENT
BEGIN:VEVENT
DTSTART;TZID=Europe/Helsinki:20180908T130000
DTEND;TZID=Europe/Helsinki:20180908T140000
DTSTAMP:20260426T015204
CREATED:20180817T065507Z
LAST-MODIFIED:20180817T065507Z
UID:1744-1536411600-1536415200@mimmit.com
SUMMARY:Mimmit\, Ystävyys-konsertti
DESCRIPTION:
URL:https://mimmit.com/keikka/mimmit-ystavyys-konsertti-4/
LOCATION:Generalshagens skola\, Loviisa\, Suomi
END:VEVENT
BEGIN:VEVENT
DTSTART;TZID=Europe/Helsinki:20180912T180000
DTEND;TZID=Europe/Helsinki:20180912T190000
DTSTAMP:20260426T015204
CREATED:20180817T065800Z
LAST-MODIFIED:20180817T065800Z
UID:1747-1536775200-1536778800@mimmit.com
SUMMARY:Mimmit\, Ystävyys-konsertti
DESCRIPTION:
URL:https://mimmit.com/keikka/mimmit-ystavyys-konsertti-5/
LOCATION:Kulttuuritalo Korundi\, Lapinkävijäntie 4\, Rovaniemi\, 96100\, Suomi
END:VEVENT
BEGIN:VEVENT
DTSTART;TZID=Europe/Helsinki:20180913T180000
DTEND;TZID=Europe/Helsinki:20180913T190000
DTSTAMP:20260426T015204
CREATED:20180817T065917Z
LAST-MODIFIED:20180817T065917Z
UID:1750-1536861600-1536865200@mimmit.com
SUMMARY:Mimmit\, Ystävyys-konsertti
DESCRIPTION:
URL:https://mimmit.com/keikka/mimmit-ystavyys-konsertti-6/
LOCATION:Ylärisali\, Kittilä\, Suomi
END:VEVENT
BEGIN:VEVENT
DTSTART;TZID=Europe/Helsinki:20180914T180000
DTEND;TZID=Europe/Helsinki:20180914T190000
DTSTAMP:20260426T015204
CREATED:20180817T070042Z
LAST-MODIFIED:20180817T070500Z
UID:1753-1536948000-1536951600@mimmit.com
SUMMARY:Mimmit\, Ystävyys-konsertti
DESCRIPTION:
URL:https://mimmit.com/keikka/mimmit-ystavyys-konsertti-7/
LOCATION:Seminaarin koulun auditorio\, Tornio\, Suomi
END:VEVENT
BEGIN:VEVENT
DTSTART;TZID=Europe/Helsinki:20180915T150000
DTEND;TZID=Europe/Helsinki:20180915T160000
DTSTAMP:20260426T015204
CREATED:20180817T070232Z
LAST-MODIFIED:20180817T070232Z
UID:1756-1537023600-1537027200@mimmit.com
SUMMARY:Mimmit\, Ystävyys-konsertti
DESCRIPTION:
URL:https://mimmit.com/keikka/mimmit-ystavyys-konsertti-8/
LOCATION:Kauppa- ja kulttuurikeskus Merta\, Kalajoki\, Suomi
END:VEVENT
BEGIN:VEVENT
DTSTART;TZID=Europe/Helsinki:20180916T150000
DTEND;TZID=Europe/Helsinki:20180916T160000
DTSTAMP:20260426T015204
CREATED:20180817T070717Z
LAST-MODIFIED:20180817T070717Z
UID:1759-1537110000-1537113600@mimmit.com
SUMMARY:Mimmit\, Ystävyys-konsertti
DESCRIPTION:
URL:https://mimmit.com/keikka/mimmit-ystavyys-konsertti-9/
LOCATION:Nurmes-talo\, Nurmes\, Suomi
END:VEVENT
BEGIN:VEVENT
DTSTART;VALUE=DATE:20181008
DTEND;VALUE=DATE:20181009
DTSTAMP:20260426T015204
CREATED:20180817T070813Z
LAST-MODIFIED:20180817T070813Z
UID:1762-1538956800-1539043199@mimmit.com
SUMMARY:Mimmit
DESCRIPTION:
URL:https://mimmit.com/keikka/mimmit/
LOCATION:Suomen suurlähetystö\, Lontoo\, Lontoo\, Iso-Britannia
END:VEVENT
BEGIN:VEVENT
DTSTART;TZID=Europe/Helsinki:20181027T103000
DTEND;TZID=Europe/Helsinki:20181027T123000
DTSTAMP:20260426T015204
CREATED:20180817T071035Z
LAST-MODIFIED:20180817T071035Z
UID:1765-1540636200-1540643400@mimmit.com
SUMMARY:Mimmit\, Ystävyys-konsertti
DESCRIPTION:
URL:https://mimmit.com/keikka/mimmit-ystavyys-konsertti-10/
LOCATION:Lasten kulttuurikeskus\, Pikku-Auroora\, Espoo\, Suomi
END:VEVENT
BEGIN:VEVENT
DTSTART;TZID=Europe/Helsinki:20181118T140000
DTEND;TZID=Europe/Helsinki:20181118T150000
DTSTAMP:20260426T015204
CREATED:20180817T071239Z
LAST-MODIFIED:20180817T071239Z
UID:1768-1542549600-1542553200@mimmit.com
SUMMARY:Mimmit\, Ystävyys-konsertti\, Lux Musicae
DESCRIPTION:
URL:https://mimmit.com/keikka/mimmit-ystavyys-konsertti-lux-musicae/
LOCATION:Lepopirtti\, Siuntio\, Suomi
END:VEVENT
BEGIN:VEVENT
DTSTART;TZID=Europe/Helsinki:20181125T160000
DTEND;TZID=Europe/Helsinki:20181125T170000
DTSTAMP:20260426T015204
CREATED:20180817T071449Z
LAST-MODIFIED:20180817T071449Z
UID:1771-1543161600-1543165200@mimmit.com
SUMMARY:Mimmien talvi
DESCRIPTION:
URL:https://mimmit.com/keikka/mimmien-talvi/
LOCATION:Espoon kulttuurikeskus\, Louhisali\, Espoo\, Suomi
END:VEVENT
BEGIN:VEVENT
DTSTART;TZID=Europe/Helsinki:20181126T090000
DTEND;TZID=Europe/Helsinki:20181126T100000
DTSTAMP:20260426T015204
CREATED:20180817T071538Z
LAST-MODIFIED:20180817T071538Z
UID:1774-1543222800-1543226400@mimmit.com
SUMMARY:Mimmien talvi
DESCRIPTION:
URL:https://mimmit.com/keikka/mimmien-talvi-2/
LOCATION:Espoon kulttuurikeskus\, Louhisali\, Espoo\, Suomi
END:VEVENT
BEGIN:VEVENT
DTSTART;TZID=Europe/Helsinki:20190212T093000
DTEND;TZID=Europe/Helsinki:20190212T103000
DTSTAMP:20260426T015204
CREATED:20190211T085712Z
LAST-MODIFIED:20190211T085712Z
UID:1777-1549963800-1549967400@mimmit.com
SUMMARY:Ystävyys-koulukonsertti
DESCRIPTION:
URL:https://mimmit.com/keikka/ystavyys-koulukonsertti/
END:VEVENT
BEGIN:VEVENT
DTSTART;TZID=Europe/Helsinki:20190212T120000
DTEND;TZID=Europe/Helsinki:20190212T130000
DTSTAMP:20260426T015204
CREATED:20190211T085924Z
LAST-MODIFIED:20190211T085924Z
UID:1779-1549972800-1549976400@mimmit.com
SUMMARY:Ystävyys-koulukonsertti
DESCRIPTION:
URL:https://mimmit.com/keikka/ystavyys-koulukonsertti-2/
LOCATION:Maininki\, Lohtaja
END:VEVENT
BEGIN:VEVENT
DTSTART;TZID=Europe/Helsinki:20190213T090000
DTEND;TZID=Europe/Helsinki:20190213T100000
DTSTAMP:20260426T015204
CREATED:20190211T090022Z
LAST-MODIFIED:20190211T090022Z
UID:1782-1550048400-1550052000@mimmit.com
SUMMARY:Ystävyys-koulukonsertti
DESCRIPTION:
URL:https://mimmit.com/keikka/ystavyys-koulukonsertti-3/
LOCATION:Hollihaan koulu\, Kokkola
END:VEVENT
BEGIN:VEVENT
DTSTART;TZID=Europe/Helsinki:20190213T120000
DTEND;TZID=Europe/Helsinki:20190213T130000
DTSTAMP:20260426T015204
CREATED:20190211T090105Z
LAST-MODIFIED:20190211T090105Z
UID:1785-1550059200-1550062800@mimmit.com
SUMMARY:Ystävyys-koulukonsertti
DESCRIPTION:
URL:https://mimmit.com/keikka/ystavyys-koulukonsertti-4/
LOCATION:Isokylän koulu\, Kokkola
END:VEVENT
BEGIN:VEVENT
DTSTART;TZID=Europe/Helsinki:20190215T090000
DTEND;TZID=Europe/Helsinki:20190215T100000
DTSTAMP:20260426T015204
CREATED:20190211T090659Z
LAST-MODIFIED:20190211T090659Z
UID:1788-1550221200-1550224800@mimmit.com
SUMMARY:Ystävyys-konsertti
DESCRIPTION:
URL:https://mimmit.com/keikka/ystavyys-konsertti-3/
LOCATION:Karatalo\, Espoo\, Suomi
END:VEVENT
BEGIN:VEVENT
DTSTART;TZID=Europe/Helsinki:20190216T110000
DTEND;TZID=Europe/Helsinki:20190216T120000
DTSTAMP:20260426T015204
CREATED:20190211T090834Z
LAST-MODIFIED:20190211T090834Z
UID:1791-1550314800-1550318400@mimmit.com
SUMMARY:Ystävyys-konsertti
DESCRIPTION:
URL:https://mimmit.com/keikka/ystavyys-konsertti-4/
LOCATION:Tikkurilan kirjasto\, Vantaa\, Suomi
END:VEVENT
END:VCALENDAR