BEGIN:VCALENDAR
VERSION:2.0
PRODID:-//Mimmit - ECPv6.0.2//NONSGML v1.0//EN
CALSCALE:GREGORIAN
METHOD:PUBLISH
X-ORIGINAL-URL:https://mimmit.com
X-WR-CALDESC:Tapahtumat Mimmit
REFRESH-INTERVAL;VALUE=DURATION:PT1H
X-Robots-Tag:noindex
X-PUBLISHED-TTL:PT1H
BEGIN:VTIMEZONE
TZID:Europe/Helsinki
BEGIN:DAYLIGHT
TZOFFSETFROM:+0200
TZOFFSETTO:+0300
TZNAME:EEST
DTSTART:20250330T010000
END:DAYLIGHT
BEGIN:STANDARD
TZOFFSETFROM:+0300
TZOFFSETTO:+0200
TZNAME:EET
DTSTART:20251026T010000
END:STANDARD
END:VTIMEZONE
BEGIN:VEVENT
DTSTART;TZID=Europe/Helsinki:20251008T180000
DTEND;TZID=Europe/Helsinki:20251008T184500
DTSTAMP:20260423T104317
CREATED:20250907T190134Z
LAST-MODIFIED:20250907T190134Z
UID:3113-1759946400-1759949100@mimmit.com
SUMMARY:Mimmit & KPKO
DESCRIPTION:Voiko oppiminen olla näin hauskaa ja helppoa? Voi! Vuoden lastenlevyllä palkitun Mimmit-lastenmusiikkiyhtyeen uusi ”Musapatti”- konsertti tekee oppimisesta lasten leikkiä. Korvamatolaulujen kautta tieto tarttuu kuin purkka; hauskasti\, mukaansatempaavasti ja jännittävästi. Musiikin\, tanssin ja leikin avulla jokaisesta tulee taitava MUSAPATTI! \nVauhdikkaissa lauluissa seikkaillaan dinosaurusten maailmassa\, ihmisen suolistossa\, Etelämantereella. Rallatellen päähän uppoaa niin veden kiertokulku kuin lapsen oikeudet ja vaikka mitä muuta mitä Musapattien nerokkaaseen päähän mahtuu. Interaktiivisessa Musapatti-konsertissa tavataan myös Musapatti-hahmot Pii\, Salama ja Jiro valkokankaalla. Musapatit keksivät Mimmeille ja lapsille visaisia kysymyksiä\, jotka täytyy selvittää konsertin aikana. Mitenköhän Mimmit ja lapset selviytyvät? \nMimmien tavaramerkiksi muodostuneet tarttuvat ja vauhdikkaat laulut sekä akustiset soittimet ovat edelleen mukana\, samoin kuin konsertin tarinaa kuljettavat animaatiot.
URL:https://mimmit.com/keikka/mimmit-kpko/
LOCATION:Schaumansali\, Pietarsaari
END:VEVENT
BEGIN:VEVENT
DTSTART;TZID=Europe/Helsinki:20251009T180000
DTEND;TZID=Europe/Helsinki:20251009T184500
DTSTAMP:20260423T104317
CREATED:20250907T190342Z
LAST-MODIFIED:20250907T190342Z
UID:3116-1760032800-1760035500@mimmit.com
SUMMARY:Mimmit & KPKO
DESCRIPTION:Voiko oppiminen olla näin hauskaa ja helppoa? Voi! Vuoden lastenlevyllä palkitun Mimmit-lastenmusiikkiyhtyeen uusi ”Musapatti”- konsertti tekee oppimisesta lasten leikkiä. Korvamatolaulujen kautta tieto tarttuu kuin purkka; hauskasti\, mukaansatempaavasti ja jännittävästi. Musiikin\, tanssin ja leikin avulla jokaisesta tulee taitava MUSAPATTI! \nVauhdikkaissa lauluissa seikkaillaan dinosaurusten maailmassa\, ihmisen suolistossa\, Etelämantereella. Rallatellen päähän uppoaa niin veden kiertokulku kuin lapsen oikeudet ja vaikka mitä muuta mitä Musapattien nerokkaaseen päähän mahtuu. Interaktiivisessa Musapatti-konsertissa tavataan myös Musapatti-hahmot Pii\, Salama ja Jiro valkokankaalla. Musapatit keksivät Mimmeille ja lapsille visaisia kysymyksiä\, jotka täytyy selvittää konsertin aikana. Mitenköhän Mimmit ja lapset selviytyvät? \nMimmien tavaramerkiksi muodostuneet tarttuvat ja vauhdikkaat laulut sekä akustiset soittimet ovat edelleen mukana\, samoin kuin konsertin tarinaa kuljettavat animaatiot.
URL:https://mimmit.com/keikka/mimmit-kpko-2/
LOCATION:Snellman-sali\, Kokkola
END:VEVENT
BEGIN:VEVENT
DTSTART;TZID=Europe/Helsinki:20251026T150000
DTEND;TZID=Europe/Helsinki:20251026T154500
DTSTAMP:20260423T104317
CREATED:20250907T190452Z
LAST-MODIFIED:20250907T190711Z
UID:3119-1761490800-1761493500@mimmit.com
SUMMARY:Mimmit
DESCRIPTION:Tästä lisätietoa myöhemmin!
URL:https://mimmit.com/keikka/mimmit-3/
LOCATION:Kulttuuritalo Monio\, Tuusula
END:VEVENT
END:VCALENDAR