BEGIN:VCALENDAR
VERSION:2.0
PRODID:-//Mimmit - ECPv6.0.2//NONSGML v1.0//EN
CALSCALE:GREGORIAN
METHOD:PUBLISH
X-WR-CALNAME:Mimmit
X-ORIGINAL-URL:https://mimmit.com
X-WR-CALDESC:Tapahtumat Mimmit
REFRESH-INTERVAL;VALUE=DURATION:PT1H
X-Robots-Tag:noindex
X-PUBLISHED-TTL:PT1H
BEGIN:VTIMEZONE
TZID:Europe/Helsinki
BEGIN:DAYLIGHT
TZOFFSETFROM:+0200
TZOFFSETTO:+0300
TZNAME:EEST
DTSTART:20250330T010000
END:DAYLIGHT
BEGIN:STANDARD
TZOFFSETFROM:+0300
TZOFFSETTO:+0200
TZNAME:EET
DTSTART:20251026T010000
END:STANDARD
END:VTIMEZONE
BEGIN:VEVENT
DTSTART;TZID=Europe/Helsinki:20250730T130000
DTEND;TZID=Europe/Helsinki:20250730T133000
DTSTAMP:20260423T064252
CREATED:20250723T052014Z
LAST-MODIFIED:20250723T052014Z
UID:3093-1753880400-1753882200@mimmit.com
SUMMARY:Linnanmäki
DESCRIPTION:
URL:https://mimmit.com/keikka/linnanmaki/
LOCATION:Linnanmäki\, Helsinki
END:VEVENT
BEGIN:VEVENT
DTSTART;TZID=Europe/Helsinki:20250730T150000
DTEND;TZID=Europe/Helsinki:20250730T153000
DTSTAMP:20260423T064252
CREATED:20250723T052044Z
LAST-MODIFIED:20250723T052044Z
UID:3095-1753887600-1753889400@mimmit.com
SUMMARY:Linnanmäki
DESCRIPTION:
URL:https://mimmit.com/keikka/linnanmaki-2/
LOCATION:Linnanmäki\, Helsinki
END:VEVENT
END:VCALENDAR