BEGIN:VCALENDAR
VERSION:2.0
PRODID:-//Mimmit - ECPv6.0.2//NONSGML v1.0//EN
CALSCALE:GREGORIAN
METHOD:PUBLISH
X-ORIGINAL-URL:https://mimmit.com
X-WR-CALDESC:Tapahtumat Mimmit
REFRESH-INTERVAL;VALUE=DURATION:PT1H
X-Robots-Tag:noindex
X-PUBLISHED-TTL:PT1H
BEGIN:VTIMEZONE
TZID:Europe/Helsinki
BEGIN:DAYLIGHT
TZOFFSETFROM:+0200
TZOFFSETTO:+0300
TZNAME:EEST
DTSTART:20250330T010000
END:DAYLIGHT
BEGIN:STANDARD
TZOFFSETFROM:+0300
TZOFFSETTO:+0200
TZNAME:EET
DTSTART:20251026T010000
END:STANDARD
END:VTIMEZONE
BEGIN:VEVENT
DTSTART;TZID=Europe/Helsinki:20250509T090000
DTEND;TZID=Europe/Helsinki:20250509T094000
DTSTAMP:20260423T064425
CREATED:20250509T103108Z
LAST-MODIFIED:20250509T103108Z
UID:3053-1746781200-1746783600@mimmit.com
SUMMARY:Mimmit-päiväkotikonsertti
DESCRIPTION:
URL:https://mimmit.com/keikka/mimmit-paivakotikonsertti-7/
LOCATION:Espoo
END:VEVENT
BEGIN:VEVENT
DTSTART;TZID=Europe/Helsinki:20250515T090000
DTEND;TZID=Europe/Helsinki:20250515T094000
DTSTAMP:20260423T064425
CREATED:20250509T103136Z
LAST-MODIFIED:20250509T103136Z
UID:3055-1747299600-1747302000@mimmit.com
SUMMARY:Mimmit-päiväkotikonsertti
DESCRIPTION:
URL:https://mimmit.com/keikka/mimmit-paivakotikonsertti-8/
LOCATION:Helsinki\, Helsinki
END:VEVENT
BEGIN:VEVENT
DTSTART;TZID=Europe/Helsinki:20250517T143000
DTEND;TZID=Europe/Helsinki:20250517T151500
DTSTAMP:20260423T064425
CREATED:20250509T103327Z
LAST-MODIFIED:20250509T103327Z
UID:3057-1747492200-1747494900@mimmit.com
SUMMARY:Pikkis juhlii
DESCRIPTION:
URL:https://mimmit.com/keikka/pikkis-juhlii/
LOCATION:Pikku Huopalahti\, Helsinki
END:VEVENT
BEGIN:VEVENT
DTSTART;TZID=Europe/Helsinki:20250519T090000
DTEND;TZID=Europe/Helsinki:20250519T110000
DTSTAMP:20260423T064425
CREATED:20250509T103537Z
LAST-MODIFIED:20250509T103537Z
UID:3060-1747645200-1747652400@mimmit.com
SUMMARY:Mimmit-päiväkotikonsertti
DESCRIPTION:
URL:https://mimmit.com/keikka/mimmit-paivakotikonsertti-9/
LOCATION:Salo\, Salo
END:VEVENT
BEGIN:VEVENT
DTSTART;TZID=Europe/Helsinki:20250519T150000
DTEND;TZID=Europe/Helsinki:20250519T160000
DTSTAMP:20260423T064425
CREATED:20250509T103734Z
LAST-MODIFIED:20250509T103734Z
UID:3063-1747666800-1747670400@mimmit.com
SUMMARY:Mimmit-päiväkotikonsertti
DESCRIPTION:
URL:https://mimmit.com/keikka/mimmit-paivakotikonsertti-10/
LOCATION:Lahti\, Lahti
END:VEVENT
BEGIN:VEVENT
DTSTART;TZID=Europe/Helsinki:20250520T160000
DTEND;TZID=Europe/Helsinki:20250520T164000
DTSTAMP:20260423T064425
CREATED:20250509T103833Z
LAST-MODIFIED:20250509T103833Z
UID:3066-1747756800-1747759200@mimmit.com
SUMMARY:Mimmit-päiväkotikonsertti
DESCRIPTION:
URL:https://mimmit.com/keikka/mimmit-paivakotikonsertti-11/
LOCATION:Espoo
END:VEVENT
BEGIN:VEVENT
DTSTART;TZID=Europe/Helsinki:20250522T090000
DTEND;TZID=Europe/Helsinki:20250522T094000
DTSTAMP:20260423T064425
CREATED:20250509T103925Z
LAST-MODIFIED:20250509T103925Z
UID:3068-1747904400-1747906800@mimmit.com
SUMMARY:Mimmit-päiväkotikonsertti
DESCRIPTION:
URL:https://mimmit.com/keikka/mimmit-paivakotikonsertti-12/
LOCATION:Helsinki\, Helsinki
END:VEVENT
BEGIN:VEVENT
DTSTART;TZID=Europe/Helsinki:20250522T170000
DTEND;TZID=Europe/Helsinki:20250522T174500
DTSTAMP:20260423T064425
CREATED:20250509T104036Z
LAST-MODIFIED:20250509T104036Z
UID:3070-1747933200-1747935900@mimmit.com
SUMMARY:Grani-päivä
DESCRIPTION:
URL:https://mimmit.com/keikka/grani-paiva/
LOCATION:Kauniaisten tori\, Kauniainen
END:VEVENT
BEGIN:VEVENT
DTSTART;TZID=Europe/Helsinki:20250525T143000
DTEND;TZID=Europe/Helsinki:20250525T150000
DTSTAMP:20260423T064425
CREATED:20250509T104140Z
LAST-MODIFIED:20250509T104140Z
UID:3073-1748183400-1748185200@mimmit.com
SUMMARY:Elias Block Party
DESCRIPTION:
URL:https://mimmit.com/keikka/elias-block-party/
LOCATION:Helsinki\, Helsinki
END:VEVENT
BEGIN:VEVENT
DTSTART;TZID=Europe/Helsinki:20250526T180000
DTEND;TZID=Europe/Helsinki:20250526T183000
DTSTAMP:20260423T064425
CREATED:20250509T104248Z
LAST-MODIFIED:20250509T104248Z
UID:3075-1748282400-1748284200@mimmit.com
SUMMARY:Mimmit-päiväkotikonsertti
DESCRIPTION:
URL:https://mimmit.com/keikka/mimmit-paivakotikonsertti-13/
LOCATION:Puumala\, Puumala
END:VEVENT
BEGIN:VEVENT
DTSTART;TZID=Europe/Helsinki:20250527T100000
DTEND;TZID=Europe/Helsinki:20250527T103000
DTSTAMP:20260423T064425
CREATED:20250509T104352Z
LAST-MODIFIED:20250509T104352Z
UID:3078-1748340000-1748341800@mimmit.com
SUMMARY:Mimmit-päiväkotikonsertti
DESCRIPTION:
URL:https://mimmit.com/keikka/mimmit-paivakotikonsertti-14/
LOCATION:Espoo
END:VEVENT
BEGIN:VEVENT
DTSTART;TZID=Europe/Helsinki:20250527T150000
DTEND;TZID=Europe/Helsinki:20250527T153000
DTSTAMP:20260423T064425
CREATED:20250509T104426Z
LAST-MODIFIED:20250509T104426Z
UID:3080-1748358000-1748359800@mimmit.com
SUMMARY:Mimmit-päiväkotikonsertti
DESCRIPTION:
URL:https://mimmit.com/keikka/mimmit-paivakotikonsertti-15/
END:VEVENT
BEGIN:VEVENT
DTSTART;TZID=Europe/Helsinki:20250527T163000
DTEND;TZID=Europe/Helsinki:20250527T170000
DTSTAMP:20260423T064425
CREATED:20250509T104519Z
LAST-MODIFIED:20250509T104519Z
UID:3082-1748363400-1748365200@mimmit.com
SUMMARY:Mimmit-päiväkotikonsertti
DESCRIPTION:
URL:https://mimmit.com/keikka/mimmit-paivakotikonsertti-16/
END:VEVENT
BEGIN:VEVENT
DTSTART;TZID=Europe/Helsinki:20250527T181500
DTEND;TZID=Europe/Helsinki:20250527T185000
DTSTAMP:20260423T064425
CREATED:20250509T104553Z
LAST-MODIFIED:20250509T104553Z
UID:3084-1748369700-1748371800@mimmit.com
SUMMARY:Mimmit-päiväkotikonsertti
DESCRIPTION:
URL:https://mimmit.com/keikka/mimmit-paivakotikonsertti-17/
END:VEVENT
END:VCALENDAR