BEGIN:VCALENDAR
VERSION:2.0
PRODID:-//Mimmit - ECPv6.0.2//NONSGML v1.0//EN
CALSCALE:GREGORIAN
METHOD:PUBLISH
X-WR-CALNAME:Mimmit
X-ORIGINAL-URL:https://mimmit.com
X-WR-CALDESC:Tapahtumat Mimmit
REFRESH-INTERVAL;VALUE=DURATION:PT1H
X-Robots-Tag:noindex
X-PUBLISHED-TTL:PT1H
BEGIN:VTIMEZONE
TZID:Europe/Helsinki
BEGIN:DAYLIGHT
TZOFFSETFROM:+0200
TZOFFSETTO:+0300
TZNAME:EEST
DTSTART:20250330T010000
END:DAYLIGHT
BEGIN:STANDARD
TZOFFSETFROM:+0300
TZOFFSETTO:+0200
TZNAME:EET
DTSTART:20251026T010000
END:STANDARD
END:VTIMEZONE
BEGIN:VEVENT
DTSTART;TZID=Europe/Helsinki:20250322T150000
DTEND;TZID=Europe/Helsinki:20250322T154500
DTSTAMP:20260423T093611
CREATED:20250321T080229Z
LAST-MODIFIED:20250321T080229Z
UID:3033-1742655600-1742658300@mimmit.com
SUMMARY:Tärkeää-kirkkokonsertti
DESCRIPTION:
URL:https://mimmit.com/keikka/tarkeaa-kirkkokonsertti-2/
LOCATION:Nurmijärven kirkko\, Suomi
END:VEVENT
BEGIN:VEVENT
DTSTART;TZID=Europe/Helsinki:20250323T100000
DTEND;TZID=Europe/Helsinki:20250323T104000
DTSTAMP:20260423T093611
CREATED:20250123T054419Z
LAST-MODIFIED:20250321T080301Z
UID:3014-1742724000-1742726400@mimmit.com
SUMMARY:Muskarikonsertti & soitinpolku\, HUOM! Loppuunmyyty
DESCRIPTION:MIMMIT MUSKARI-KONSERTTI\n\nMimmit Muskari- konsertista ei menoa ja meininkiä puutu! Mukaansatempaavassa konsertissa lapset ja aikuiset pääsevät mukaan osallistumaan laulaen ja leikkien. Mukana on tietysti myös lasten suosikki\, Mimmipussi. Mimmipussi avautuu laulun\, soiton ja rytmin avulla\, jos avautuu…Milläköhän tuulella Mimmipussi on tänään?\n\nMuskarissa opitaan lisäksi erilaisia rytmejä ja musiikkimaan kieltä. Mukana musisoimassa on myös taitavia\, eri-ikäisiä lapsia!\n\nKonsertissa kuullaan suosituimpia Mimmit- lauluja vuosien varrelta sekä kaikille tuttuja lastenlauluklassikoita uusin\, raikkain sovituksin. Lauluja värittävät upeat tausta-animaatiot ja vauhdikkaat tanssit. Mimmit tanssivat ja leikittävät myös yleisöä. Saa laulaa ja leikkiä mukana!\n\nMimmit on yksi Suomen tunnetuimmista lastenmusiikkiyhtyeistä. Mimmit ovat tehneet yli 1000 konserttia Suomessa ja ulkomailla ja julkaisseet kahdeksan levyä suomeksi ja kaksi ruotsiksi. Mimmit on saavuttanut useita palkintoja kuten Vuoden yhtye\, Vuoden lastenlevy ja Vuoden lastenmusiikintekijä sekä kolme Emma-ehdokkuutta. Mimmit- musiikkivideoita on katsottu Youtubessa yli 16 miljoonaa kertaa!\n\nEsiintyjät:\n\nPauliina Lerche – laulu\, harmonikka\, kantele\nHannamari Vallila – laulu\, viulu\, melodika\nAnssi Salminen – kitara\, taustalaulu\nJuha Kujanpää – piano\nLuis Herrero – basso\, taustalaulu\n\nSekä soittavat ja laulavat lapset.
URL:https://mimmit.com/keikka/muskarikonsertti-soitinpolku/
LOCATION:Musiikkitalo\, Mannerheimintie 13a\, Helsinki\, 00100\, Suomi
END:VEVENT
BEGIN:VEVENT
DTSTART;TZID=Europe/Helsinki:20250323T113000
DTEND;TZID=Europe/Helsinki:20250323T121000
DTSTAMP:20260423T093611
CREATED:20250123T054628Z
LAST-MODIFIED:20250123T054628Z
UID:3016-1742729400-1742731800@mimmit.com
SUMMARY:Muskarikonsertti & soitinpolku
DESCRIPTION:MIMMIT MUSKARI-KONSERTTI\n\nMimmit Muskari- konsertista ei menoa ja meininkiä puutu! Mukaansatempaavassa konsertissa lapset ja aikuiset pääsevät mukaan osallistumaan laulaen ja leikkien. Mukana on tietysti myös lasten suosikki\, Mimmipussi. Mimmipussi avautuu laulun\, soiton ja rytmin avulla\, jos avautuu…Milläköhän tuulella Mimmipussi on tänään?\n\nMuskarissa opitaan lisäksi erilaisia rytmejä ja musiikkimaan kieltä. Mukana musisoimassa on myös taitavia\, eri-ikäisiä lapsia!\n\nKonsertissa kuullaan suosituimpia Mimmit- lauluja vuosien varrelta sekä kaikille tuttuja lastenlauluklassikoita uusin\, raikkain sovituksin. Lauluja värittävät upeat tausta-animaatiot ja vauhdikkaat tanssit. Mimmit tanssivat ja leikittävät myös yleisöä. Saa laulaa ja leikkiä mukana!\n\nMimmit on yksi Suomen tunnetuimmista lastenmusiikkiyhtyeistä. Mimmit ovat tehneet yli 1000 konserttia Suomessa ja ulkomailla ja julkaisseet kahdeksan levyä suomeksi ja kaksi ruotsiksi. Mimmit on saavuttanut useita palkintoja kuten Vuoden yhtye\, Vuoden lastenlevy ja Vuoden lastenmusiikintekijä sekä kolme Emma-ehdokkuutta. Mimmit- musiikkivideoita on katsottu Youtubessa yli 16 miljoonaa kertaa!\n\nEsiintyjät:\n\nPauliina Lerche – laulu\, harmonikka\, kantele\nHannamari Vallila – laulu\, viulu\, melodika\nAnssi Salminen – kitara\, taustalaulu\nJuha Kujanpää – piano\nLuis Herrero – basso\, taustalaulu\n\nSekä soittavat ja laulavat lapset.
URL:https://mimmit.com/keikka/muskarikonsertti-soitinpolku-2/
LOCATION:Musiikkitalo\, Mannerheimintie 13a\, Helsinki\, 00100\, Suomi
END:VEVENT
BEGIN:VEVENT
DTSTART;TZID=Europe/Helsinki:20250329T130000
DTEND;TZID=Europe/Helsinki:20250329T134500
DTSTAMP:20260423T093611
CREATED:20250311T133802Z
LAST-MODIFIED:20250311T133802Z
UID:3031-1743253200-1743255900@mimmit.com
SUMMARY:Aurinkoo-konsertti\, HUOM! Loppuunmyyty
DESCRIPTION:Koko perheen suosikkiyhtyeen Mimmien kanssa keväästä ei tule tylsää\, pääset mukaan laulamaan\, tanssimaan\, leikkimään ja viittomaan. Aurinkoo- konsertissa kuullaan ihan uusia luonnosta kertovia Mimmit- lauluja sekä vanhoja Mimmit- hittibiisejä\, tanssittavia rytmejä unohtamatta. \nKonsertissa kuultavat vanhat Mimmit- laulut ovat keränneet Youtubessa jo yli 7 miljoonaa katselukertaa joten on helppo laulaa mukana! Myös monet aikuiset fanittavat Mimmejä ja ihan jokaisella keikalla myös aikuiset laulavat mukana. \nInteraktiivinen ja vauhdikas Aurinkoo- konsertti saa yleisön poistumaan paikalta hymyssä suin. \nPalkittu Mimmit- yhtye on 18 vuoden aikana luonut ainutlaatuisen uran suomalaisessa lastenkulttuurissa: 1000 konserttia\, yli 16 miljoonaa Youtube- katselua\, TV-sarjoja\, levyjä\, kirjoja sekä faneja ympäri maailmaa.
URL:https://mimmit.com/keikka/aurinkoo-konsertti-huom-loppuunmyyty/
LOCATION:Lasten kulttuurikeskus\, Pikku-Auroora\, Espoo\, Suomi
END:VEVENT
BEGIN:VEVENT
DTSTART;TZID=Europe/Helsinki:20250329T150000
DTEND;TZID=Europe/Helsinki:20250329T160000
DTSTAMP:20260423T093611
CREATED:20250104T115309Z
LAST-MODIFIED:20250311T133557Z
UID:3004-1743260400-1743264000@mimmit.com
SUMMARY:Aurinkoo-konsertti\, HUOM! Loppuunmyyty
DESCRIPTION:Koko perheen suosikkiyhtyeen Mimmien kanssa keväästä ei tule tylsää\, pääset mukaan laulamaan\, tanssimaan\, leikkimään ja viittomaan. Aurinkoo- konsertissa kuullaan ihan uusia luonnosta kertovia Mimmit- lauluja sekä vanhoja Mimmit- hittibiisejä\, tanssittavia rytmejä unohtamatta.  \nKonsertissa kuultavat vanhat Mimmit- laulut ovat keränneet Youtubessa jo yli 7 miljoonaa katselukertaa joten on helppo laulaa mukana! Myös monet aikuiset fanittavat Mimmejä ja ihan jokaisella keikalla myös aikuiset laulavat mukana.  \nInteraktiivinen ja vauhdikas Aurinkoo- konsertti saa yleisön poistumaan paikalta hymyssä suin.  \nPalkittu Mimmit- yhtye on 18 vuoden aikana luonut ainutlaatuisen uran suomalaisessa lastenkulttuurissa: 1000 konserttia\, yli 16 miljoonaa Youtube- katselua\, TV-sarjoja\, levyjä\, kirjoja sekä faneja ympäri maailmaa.
URL:https://mimmit.com/keikka/viktigt-konsertti-mimmit-pa-svenska/
LOCATION:Lasten kulttuurikeskus\, Pikku-Auroora\, Espoo\, Suomi
END:VEVENT
END:VCALENDAR