BEGIN:VCALENDAR
VERSION:2.0
PRODID:-//Mimmit - ECPv6.0.2//NONSGML v1.0//EN
CALSCALE:GREGORIAN
METHOD:PUBLISH
X-WR-CALNAME:Mimmit
X-ORIGINAL-URL:https://mimmit.com
X-WR-CALDESC:Tapahtumat Mimmit
REFRESH-INTERVAL;VALUE=DURATION:PT1H
X-Robots-Tag:noindex
X-PUBLISHED-TTL:PT1H
BEGIN:VTIMEZONE
TZID:Europe/Helsinki
BEGIN:DAYLIGHT
TZOFFSETFROM:+0200
TZOFFSETTO:+0300
TZNAME:EEST
DTSTART:20170326T010000
END:DAYLIGHT
BEGIN:STANDARD
TZOFFSETFROM:+0300
TZOFFSETTO:+0200
TZNAME:EET
DTSTART:20171029T010000
END:STANDARD
END:VTIMEZONE
BEGIN:VEVENT
DTSTART;TZID=Europe/Helsinki:20170923T150000
DTEND;TZID=Europe/Helsinki:20170923T160000
DTSTAMP:20260426T063149
CREATED:20170923T062727Z
LAST-MODIFIED:20170923T090955Z
UID:1565-1506178800-1506182400@mimmit.com
SUMMARY:Mimmit 10 v.-Ystävyys- konsertti
DESCRIPTION:
URL:https://mimmit.com/keikka/mimmit-10-v-ystavyys-konsertti/
LOCATION:Kuusamotalo\, Kaarlo Hännisentie 2\, Kuusamo\, 93600\, Suomi
END:VEVENT
END:VCALENDAR