BEGIN:VCALENDAR
VERSION:2.0
PRODID:-//Mimmit - ECPv6.0.2//NONSGML v1.0//EN
CALSCALE:GREGORIAN
METHOD:PUBLISH
X-WR-CALNAME:Mimmit
X-ORIGINAL-URL:https://mimmit.com
X-WR-CALDESC:Tapahtumat Mimmit
REFRESH-INTERVAL;VALUE=DURATION:PT1H
X-Robots-Tag:noindex
X-PUBLISHED-TTL:PT1H
BEGIN:VTIMEZONE
TZID:Europe/Helsinki
BEGIN:DAYLIGHT
TZOFFSETFROM:+0200
TZOFFSETTO:+0300
TZNAME:EEST
DTSTART:20250330T010000
END:DAYLIGHT
BEGIN:STANDARD
TZOFFSETFROM:+0300
TZOFFSETTO:+0200
TZNAME:EET
DTSTART:20251026T010000
END:STANDARD
END:VTIMEZONE
BEGIN:VEVENT
DTSTART;TZID=Europe/Helsinki:20251209T090000
DTEND;TZID=Europe/Helsinki:20251209T093000
DTSTAMP:20260423T150704
CREATED:20250907T193708Z
LAST-MODIFIED:20250907T193708Z
UID:3150-1765270800-1765272600@mimmit.com
SUMMARY:Puhuri-päiväkotikonsertti
DESCRIPTION:
URL:https://mimmit.com/keikka/puhuri-paivakotikonsertti/
LOCATION:Liikuntahalli\, Taivassalo
END:VEVENT
BEGIN:VEVENT
DTSTART;TZID=Europe/Helsinki:20251209T100000
DTEND;TZID=Europe/Helsinki:20251209T103000
DTSTAMP:20260423T150704
CREATED:20250907T193746Z
LAST-MODIFIED:20250907T193746Z
UID:3152-1765274400-1765276200@mimmit.com
SUMMARY:Puhuri-päiväkotikonsertti
DESCRIPTION:
URL:https://mimmit.com/keikka/puhuri-paivakotikonsertti-2/
LOCATION:Liikuntahalli\, Taivassalo
END:VEVENT
END:VCALENDAR