BEGIN:VCALENDAR
VERSION:2.0
PRODID:-//Mimmit - ECPv6.0.2//NONSGML v1.0//EN
CALSCALE:GREGORIAN
METHOD:PUBLISH
X-ORIGINAL-URL:https://mimmit.com
X-WR-CALDESC:Tapahtumat Mimmit
REFRESH-INTERVAL;VALUE=DURATION:PT1H
X-Robots-Tag:noindex
X-PUBLISHED-TTL:PT1H
BEGIN:VTIMEZONE
TZID:Europe/Helsinki
BEGIN:DAYLIGHT
TZOFFSETFROM:+0200
TZOFFSETTO:+0300
TZNAME:EEST
DTSTART:20250330T010000
END:DAYLIGHT
BEGIN:STANDARD
TZOFFSETFROM:+0300
TZOFFSETTO:+0200
TZNAME:EET
DTSTART:20251026T010000
END:STANDARD
END:VTIMEZONE
BEGIN:VEVENT
DTSTART;TZID=Europe/Helsinki:20251116T150000
DTEND;TZID=Europe/Helsinki:20251116T160000
DTSTAMP:20260423T132959
CREATED:20250907T192439Z
LAST-MODIFIED:20251102T052020Z
UID:3134-1763305200-1763308800@mimmit.com
SUMMARY:Mimmit
DESCRIPTION:Mimmit on riemastuttavan hauska kahden sisaruksen muodostama lastenyhtye. Mimmit pulppuavat laulua\, tanssia ja puhetta\, ja saavat kuuntelijat taatusti hyvälle tuulelle. Yhtyeen ilmava luomusoundi on balsamia myös vanhempien korville. Duon lavaenergia tempaa mukaansa niin lapset kuin aikuiset. \nYstävyys-konsertissa kuullaan Mimmien suosituimmat kappaleet vuosien varrelta\, sekä uusia Ystävyys-aiheisia lauluja. Lämminhenkisessä konsertissa tavataan niin Mimmien eläinystäviä\, kuin ystäviä ympäri maailmaa. Musiikin tunnelmia heijastavat upeat tausta-animaatiot\, joissa laulujen tarinat heräävät eloon valkokankaalla. Vauhdikkaat tanssit tempaavat yleisön mukaan. \nPalkittu Mimmit-yhtye on 15 vuoden aikana luonut ainutlaatuisen uran suomalaisessa lastenkulttuurissa; yli 17 miljoonaa Youtube -katselua\, levyjä\, TV-sarjoja\, kirjoja\, konsertteja\, tekstiilikokoelma\, sekä faneja ympäri maailmaa.
URL:https://mimmit.com/keikka/mimmit-4/
LOCATION:Arvo Ylpön koulun liikuntasali\, Sontulantie 6\, Akaa
END:VEVENT
END:VCALENDAR