BEGIN:VCALENDAR
VERSION:2.0
PRODID:-//Mimmit - ECPv6.0.2//NONSGML v1.0//EN
CALSCALE:GREGORIAN
METHOD:PUBLISH
X-WR-CALNAME:Mimmit
X-ORIGINAL-URL:https://mimmit.com
X-WR-CALDESC:Tapahtumat Mimmit
REFRESH-INTERVAL;VALUE=DURATION:PT1H
X-Robots-Tag:noindex
X-PUBLISHED-TTL:PT1H
BEGIN:VTIMEZONE
TZID:Europe/Helsinki
BEGIN:DAYLIGHT
TZOFFSETFROM:+0200
TZOFFSETTO:+0300
TZNAME:EEST
DTSTART:20250330T010000
END:DAYLIGHT
BEGIN:STANDARD
TZOFFSETFROM:+0300
TZOFFSETTO:+0200
TZNAME:EET
DTSTART:20251026T010000
END:STANDARD
END:VTIMEZONE
BEGIN:VEVENT
DTSTART;TZID=Europe/Helsinki:20251112T090000
DTEND;TZID=Europe/Helsinki:20251112T100000
DTSTAMP:20260423T133158
CREATED:20250907T191033Z
LAST-MODIFIED:20250907T191033Z
UID:3123-1762938000-1762941600@mimmit.com
SUMMARY:Mimmit & LKO\, Mimmit ja Puhuri\, Pakkasen poika -musiikkisatu\, koululaisesitys
DESCRIPTION:Mimmit ja Puhuri\, Pakkasen poika on läpisävelletty uusi orkesteriteos\, jonka teemana on ilmastonmuutos sadun keinoin. Pauliina Lerchen säveltämän ja sanoittaman musiikkisadun kantaesitys oli marraskuussa 2024.  \nJännittävässä musiikillisessa tarinassa matkataan läpi syksyisen maiseman. Matkalla Mimmit\, Puhuri ja jänis Loikkakoipi tapaavat jättiläisen\, erilaisia eläimiä sekä todistavat omin silmin\, että luonto on epäkunnossa\, kuten Vanha Pihapuu kertoi.  \nVaskimetsässä riehuu syysmyrsky eikä talven tulosta ole tietoakaan. Mimmit kohtaavat kaksi matkalaista\, Puhurin ja hänen parhaan ystävänsä Jänis Loikkakoiven. \nPuhurilla on mukanaan palsasoiden ikiroudasta ja kovimmasta teräsjäästä tehty maaginen sarvi. Sarven avulla Puhurin pitäisi herättää isänsä Pakkanen tuomaan talven. Sarvi on kuitenkin sulanut pahasti ja siitä kuuluu outoja törähdyksiä. Mimmit päättävät auttaa Puhuria ja Loikkakoipea. He lähtevät yhdessä kohti pohjoista!  \nAlkaa seikkailu\, josta ei puutu vauhtia\, jännitystä eikä hilpeyttäkään. Joku yrittää estää talven saapumisen ja Puhuria kalvaa suuri salaisuus. Mimmit ja Puhuri\, Pakkasen poika -musiikkisadussa selviää\, voidaanko talvet vielä pelastaa. \nTarina pohjautuu suomalaiseen kansanperinteeseen ja vanhoihin uskomuksiin talvesta. Huumoria tuo mukaan hassu ja sympaattinen jänis Loikkakoipi. Osa tarinan hahmoista kuten Myrskytär\, jättiläinen\, Pakkanen toteutetaan animaation ja nauhoitetun äänen avulla.  \nLaulut kuljettavat tarinaa eteenpäin ja score-musiikki luo erilaisia tunnetiloja sekä kuvittaa tarinan erilaisia maisemia ja hahmoja. Mimmit ja Puhuri\, Pakkasen poika- musiikkisadun koululaisversion pituus on n. 60 min. \nMimmit ja Puhuri\, Pakkasen poika- musiikkisatu: \nMusiikin sävellys\, sanoitus ja alkuperäinen tarina: Pauliina Lerche \nMusiikin sovitus\, orkestrointi ja kapellimestari: Jussi Lampela \nOhjaus ja dramatisointi: Aleksis Meaney \nKäsikirjoitus: Henna-Leena Kallio \nKoreografi: Ulla Päivikkö \nTaustavisuaalien ja lavasteiden kuvitus: Nunnu Halmetoja \nAnimointi: Pekka Tavi \nValosuunnittelu: Pyry Pakkala Petterberg \nPukusuunnittelu ja toteutus\, rekvisiitta: Kirsi Unkuri\, Taru Hahle\, Aino Aho \nÄäninäyttelijöiden ohjaus: Emilia Putkinen Petterberg \nÄäninäyttelijöiden editointi: Jani Orbinski \nEsiintyjät: \nMimmit\, Pauski: Pauliina Lerche \nMimmit\, Hansu: Hannamari Vallila \nPuhuri: Paavo Kerosuo \nJänis Loikkakoipi: Elias Keränen \nMyrskytär (ääninäyttelijä): Satu Silvo \nKarhu\, Pakkanen (ääninäyttelijä): Jarmo Koski \nVanha Pihapuu (ääninäyttelijä): Robin Svartström \nJättiläinen (ääninäyttelijä): Salla Loper \nÄänet ja taustavisuaalit: Jani Orbinski
URL:https://mimmit.com/keikka/mimmit-lko-mimmit-ja-puhuri-pakkasen-poika-musiikkisatu-koululaisesitys/
LOCATION:Kulttuuritalo Korundi\, Lapinkävijäntie 4\, Rovaniemi\, 96100\, Suomi
END:VEVENT
BEGIN:VEVENT
DTSTART;TZID=Europe/Helsinki:20251112T103000
DTEND;TZID=Europe/Helsinki:20251112T113000
DTSTAMP:20260423T133158
CREATED:20250907T191216Z
LAST-MODIFIED:20250907T191216Z
UID:3125-1762943400-1762947000@mimmit.com
SUMMARY:Mimmit & LKO\, Mimmit ja Puhuri\, Pakkasen poika -musiikkisatu\, koululaisesitys
DESCRIPTION:Mimmit ja Puhuri\, Pakkasen poika on läpisävelletty uusi orkesteriteos\, jonka teemana on ilmastonmuutos sadun keinoin. Pauliina Lerchen säveltämän ja sanoittaman musiikkisadun kantaesitys oli marraskuussa 2024.  \nJännittävässä musiikillisessa tarinassa matkataan läpi syksyisen maiseman. Matkalla Mimmit\, Puhuri ja jänis Loikkakoipi tapaavat jättiläisen\, erilaisia eläimiä sekä todistavat omin silmin\, että luonto on epäkunnossa\, kuten Vanha Pihapuu kertoi.  \nVaskimetsässä riehuu syysmyrsky eikä talven tulosta ole tietoakaan. Mimmit kohtaavat kaksi matkalaista\, Puhurin ja hänen parhaan ystävänsä Jänis Loikkakoiven. \nPuhurilla on mukanaan palsasoiden ikiroudasta ja kovimmasta teräsjäästä tehty maaginen sarvi. Sarven avulla Puhurin pitäisi herättää isänsä Pakkanen tuomaan talven. Sarvi on kuitenkin sulanut pahasti ja siitä kuuluu outoja törähdyksiä. Mimmit päättävät auttaa Puhuria ja Loikkakoipea. He lähtevät yhdessä kohti pohjoista!  \nAlkaa seikkailu\, josta ei puutu vauhtia\, jännitystä eikä hilpeyttäkään. Joku yrittää estää talven saapumisen ja Puhuria kalvaa suuri salaisuus. Mimmit ja Puhuri\, Pakkasen poika -musiikkisadussa selviää\, voidaanko talvet vielä pelastaa. \nTarina pohjautuu suomalaiseen kansanperinteeseen ja vanhoihin uskomuksiin talvesta. Huumoria tuo mukaan hassu ja sympaattinen jänis Loikkakoipi. Osa tarinan hahmoista kuten Myrskytär\, jättiläinen\, Pakkanen toteutetaan animaation ja nauhoitetun äänen avulla.  \nLaulut kuljettavat tarinaa eteenpäin ja score-musiikki luo erilaisia tunnetiloja sekä kuvittaa tarinan erilaisia maisemia ja hahmoja. Mimmit ja Puhuri\, Pakkasen poika- musiikkisadun koululaisesityksen pituus on n. 60 min. \nMimmit ja Puhuri\, Pakkasen poika- musiikkisatu: \nMusiikin sävellys\, sanoitus ja alkuperäinen tarina: Pauliina Lerche \nMusiikin sovitus\, orkestrointi ja kapellimestari: Jussi Lampela \nOhjaus ja dramatisointi: Aleksis Meaney \nKäsikirjoitus: Henna-Leena Kallio \nKoreografi: Ulla Päivikkö \nTaustavisuaalien ja lavasteiden kuvitus: Nunnu Halmetoja \nAnimointi: Pekka Tavi \nValosuunnittelu: Pyry Pakkala Petterberg \nPukusuunnittelu ja toteutus\, rekvisiitta: Kirsi Unkuri\, Taru Hahle\, Aino Aho \nÄäninäyttelijöiden ohjaus: Emilia Putkinen Petterberg \nÄäninäyttelijöiden editointi: Jani Orbinski \nEsiintyjät: \nMimmit\, Pauski: Pauliina Lerche \nMimmit\, Hansu: Hannamari Vallila \nPuhuri: Paavo Kerosuo \nJänis Loikkakoipi: Elias Keränen \nMyrskytär (ääninäyttelijä): Satu Silvo \nKarhu\, Pakkanen (ääninäyttelijä): Jarmo Koski \nVanha Pihapuu (ääninäyttelijä): Robin Svartström \nJättiläinen (ääninäyttelijä): Salla Loper \nÄänet ja taustavisuaalit: Jani Orbinski
URL:https://mimmit.com/keikka/mimmit-lko-mimmit-ja-puhuri-pakkasen-poika-musiikkisatu-koululaisesitys-2/
LOCATION:Kulttuuritalo Korundi\, Lapinkävijäntie 4\, Rovaniemi\, 96100\, Suomi
END:VEVENT
END:VCALENDAR