BEGIN:VCALENDAR
VERSION:2.0
PRODID:-//Mimmit - ECPv6.0.2//NONSGML v1.0//EN
CALSCALE:GREGORIAN
METHOD:PUBLISH
X-ORIGINAL-URL:https://mimmit.com
X-WR-CALDESC:Tapahtumat Mimmit
REFRESH-INTERVAL;VALUE=DURATION:PT1H
X-Robots-Tag:noindex
X-PUBLISHED-TTL:PT1H
BEGIN:VTIMEZONE
TZID:Europe/Helsinki
BEGIN:DAYLIGHT
TZOFFSETFROM:+0200
TZOFFSETTO:+0300
TZNAME:EEST
DTSTART:20250330T010000
END:DAYLIGHT
BEGIN:STANDARD
TZOFFSETFROM:+0300
TZOFFSETTO:+0200
TZNAME:EET
DTSTART:20251026T010000
END:STANDARD
END:VTIMEZONE
BEGIN:VEVENT
DTSTART;TZID=Europe/Helsinki:20250907T080000
DTEND;TZID=Europe/Helsinki:20250907T170000
DTSTAMP:20260423T104053
CREATED:20250907T193602Z
LAST-MODIFIED:20250907T193602Z
UID:3148-1757232000-1757264400@mimmit.com
SUMMARY:Puhuri/Vindil -kaksikielinen\, koko perheen joulukonsertti
DESCRIPTION:MIMMIT PUHURI -KOKO PERHEEN JOULUKONSERTTI \nMimmit- yhtyeen Puhuri-konsertti johdattaa kuuntelijat joulun tunnelmaan ja valkoisten lumihankien keskelle. Konsertissa kuullaan ihan uusia talvi- ja jouluaiheisia sekä kaikille tuttuja lauluja. Tutut joululaulut ovat saaneet jännittävät sovitukset\, mukana ovat mm. Kulkuset\, Porsaita äidin oomme kaikki ja Soihdut sammuu. \nPuhuri-konsertit ovat saaneet laajoilla kiertueilla hurjan suosion ja kuulijoita on ollut ympäri Suomea jo yli 15 000. Tunnelma konserteissa oli ikimuistoinen\, niin lapset kuin aikuiset lauloivat innokkaasti mukana. Puhurista tulee taatusti perheiden jouluperinne! \nPuhuri-konsertissa yhdistyvät mukaansatempaava musiikki\, vauhdikkaat tanssit\, värikkäät tausta-animaatiot\, pöytäteatteri ja hauska tarina. Laulujen avulla lavalle rakentuu kaunis talvinen ja jouluinen maisema. Mimmipussista löytyy yllätyksiä. Pussi avautuu laulun ja leikin avulla jos avautuu\, riippuu millä tuulella Mimmipussi on… \nKonsertti on vuorovaikutteinen: lapset ja aikuiset pääsevät mukaan leikkimään\, tanssimaan ja laulamaan! \nPuhurin tarina ilmestyi myös kuunnelmana joulukuussa 2024. \nMimmit on yksi Suomen tunnetuimmista lastenmusiikkiyhtyeistä. Mimmit ovat tehneet yli 1000 konserttia Suomessa ja ulkomailla ja julkaisseet kahdeksan levyä suomeksi ja kaksi ruotsiksi. Mimmit valittiin Vuoden yhtyeeksi 2024\, ”Ystävyys” -levy valittiin vuoden lastenlevyksi 2017 ja Mimmien Pauski vuoden lastenmusiikin tekijäksi 2022. Mimmit-lauluja on striimattu jo yli 25 miljoonaa kertaa! \nMimmit: \nPauliina Lerche – laulu\, harmonikka \nHannamari Vallila – laulu\, viulu \nDaniela Fogelholm – laulu \nNina Palmgren – laulu
URL:https://mimmit.com/keikka/puhuri-vindil-kaksikielinen-koko-perheen-joulukonsertti-2/
END:VEVENT
END:VCALENDAR