BEGIN:VCALENDAR
VERSION:2.0
PRODID:-//Mimmit - ECPv6.0.2//NONSGML v1.0//EN
CALSCALE:GREGORIAN
METHOD:PUBLISH
X-WR-CALNAME:Mimmit
X-ORIGINAL-URL:https://mimmit.com
X-WR-CALDESC:Tapahtumat Mimmit
REFRESH-INTERVAL;VALUE=DURATION:PT1H
X-Robots-Tag:noindex
X-PUBLISHED-TTL:PT1H
BEGIN:VTIMEZONE
TZID:Europe/Helsinki
BEGIN:DAYLIGHT
TZOFFSETFROM:+0200
TZOFFSETTO:+0300
TZNAME:EEST
DTSTART:20250330T010000
END:DAYLIGHT
BEGIN:STANDARD
TZOFFSETFROM:+0300
TZOFFSETTO:+0200
TZNAME:EET
DTSTART:20251026T010000
END:STANDARD
END:VTIMEZONE
BEGIN:VEVENT
DTSTART;TZID=Europe/Helsinki:20250801T120000
DTEND;TZID=Europe/Helsinki:20250801T125000
DTSTAMP:20260423T080300
CREATED:20250723T052212Z
LAST-MODIFIED:20250723T052212Z
UID:3097-1754049600-1754052600@mimmit.com
SUMMARY:Hippalot
DESCRIPTION:
URL:https://mimmit.com/keikka/hippalot/
LOCATION:Verkatehdas\, Paasikivenkatu 3\, Hämeenlinna\, 13200\, Suomi
END:VEVENT
END:VCALENDAR