BEGIN:VCALENDAR
VERSION:2.0
PRODID:-//Mimmit - ECPv6.0.2//NONSGML v1.0//EN
CALSCALE:GREGORIAN
METHOD:PUBLISH
X-ORIGINAL-URL:https://mimmit.com
X-WR-CALDESC:Tapahtumat Mimmit
REFRESH-INTERVAL;VALUE=DURATION:PT1H
X-Robots-Tag:noindex
X-PUBLISHED-TTL:PT1H
BEGIN:VTIMEZONE
TZID:Europe/Helsinki
BEGIN:DAYLIGHT
TZOFFSETFROM:+0200
TZOFFSETTO:+0300
TZNAME:EEST
DTSTART:20250330T010000
END:DAYLIGHT
BEGIN:STANDARD
TZOFFSETFROM:+0300
TZOFFSETTO:+0200
TZNAME:EET
DTSTART:20251026T010000
END:STANDARD
END:VTIMEZONE
BEGIN:VEVENT
DTSTART;TZID=Europe/Helsinki:20250608T150000
DTEND;TZID=Europe/Helsinki:20250608T160000
DTSTAMP:20260423T064746
CREATED:20250123T054924Z
LAST-MODIFIED:20250123T054924Z
UID:3021-1749394800-1749398400@mimmit.com
SUMMARY:Jättimuskari
DESCRIPTION:MIMMIT JÄTTIMUSKARI- KONSERTTI\n\nMimmit Jättimuskari- konsertista ei menoa ja meininkiä puutu! Mukaansatempaavassa konsertissa lapset ja aikuiset pääsevät mukaan osallistumaan laulaen ja leikkien. Mukana on tietysti myös lasten suosikki\, Mimmipussi. Mimmipussi avautuu laulun\, soiton ja rytmin avulla\, jos avautuu…Milläköhän tuulella Mimmipussi on tänään?\n\nJättimuskari kuullaan suosituimpia Mimmit- lauluja vuosien varrelta sekä kaikille tuttuja lastenlauluklassikoita uusin\, raikkain sovituksin. Lauluja värittävät upeat tausta-animaatiot ja vauhdikkaat tanssit. Mimmit tanssivat ja leikittävät myös yleisöä. Saa laulaa ja leikkiä mukana!\n\nMimmit on yksi Suomen tunnetuimmista lastenmusiikkiyhtyeistä. Mimmit ovat tehneet yli 1000 konserttia Suomessa ja ulkomailla ja julkaisseet kahdeksan levyä suomeksi ja kaksi ruotsiksi. Mimmit on saavuttanut useita palkintoja kuten Vuoden yhtye\, Vuoden lastenlevy ja Vuoden lastenmusiikintekijä sekä kolme Emma-ehdokkuutta. Mimmit- musiikkivideoita on katsottu Youtubessa yli 16 miljoonaa kertaa!\nEsiintyjät:\n\nPauliina Lerche – laulu\, harmonikka\, kantele\nHannamari Vallila – laulu\, viulu\, melodika\nAnssi Salminen – kitara\, taustalaulu\nJuha Kujanpää – piano\nLuis Herrero – basso\, taustalaulu
URL:https://mimmit.com/keikka/jattimuskari-2/
LOCATION:Musiikkitalo\, Mannerheimintie 13a\, Helsinki\, 00100\, Suomi
END:VEVENT
END:VCALENDAR