BEGIN:VCALENDAR
VERSION:2.0
PRODID:-//Mimmit - ECPv6.0.2//NONSGML v1.0//EN
CALSCALE:GREGORIAN
METHOD:PUBLISH
X-WR-CALNAME:Mimmit
X-ORIGINAL-URL:https://mimmit.com
X-WR-CALDESC:Tapahtumat Mimmit
REFRESH-INTERVAL;VALUE=DURATION:PT1H
X-Robots-Tag:noindex
X-PUBLISHED-TTL:PT1H
BEGIN:VTIMEZONE
TZID:Europe/Helsinki
BEGIN:DAYLIGHT
TZOFFSETFROM:+0200
TZOFFSETTO:+0300
TZNAME:EEST
DTSTART:20250330T010000
END:DAYLIGHT
BEGIN:STANDARD
TZOFFSETFROM:+0300
TZOFFSETTO:+0200
TZNAME:EET
DTSTART:20251026T010000
END:STANDARD
END:VTIMEZONE
BEGIN:VEVENT
DTSTART;TZID=Europe/Helsinki:20250517T143000
DTEND;TZID=Europe/Helsinki:20250517T151500
DTSTAMP:20260423T081007
CREATED:20250509T103327Z
LAST-MODIFIED:20250509T103327Z
UID:3057-1747492200-1747494900@mimmit.com
SUMMARY:Pikkis juhlii
DESCRIPTION:
URL:https://mimmit.com/keikka/pikkis-juhlii/
LOCATION:Pikku Huopalahti\, Helsinki
END:VEVENT
END:VCALENDAR