BEGIN:VCALENDAR
VERSION:2.0
PRODID:-//Mimmit - ECPv6.0.2//NONSGML v1.0//EN
CALSCALE:GREGORIAN
METHOD:PUBLISH
X-ORIGINAL-URL:https://mimmit.com
X-WR-CALDESC:Tapahtumat Mimmit
REFRESH-INTERVAL;VALUE=DURATION:PT1H
X-Robots-Tag:noindex
X-PUBLISHED-TTL:PT1H
BEGIN:VTIMEZONE
TZID:Europe/Helsinki
BEGIN:DAYLIGHT
TZOFFSETFROM:+0200
TZOFFSETTO:+0300
TZNAME:EEST
DTSTART:20250330T010000
END:DAYLIGHT
BEGIN:STANDARD
TZOFFSETFROM:+0300
TZOFFSETTO:+0200
TZNAME:EET
DTSTART:20251026T010000
END:STANDARD
END:VTIMEZONE
BEGIN:VEVENT
DTSTART;TZID=Europe/Helsinki:20250413T160000
DTEND;TZID=Europe/Helsinki:20250413T163000
DTSTAMP:20260423T093605
CREATED:20250403T081754Z
LAST-MODIFIED:20250403T081754Z
UID:3042-1744560000-1744561800@mimmit.com
SUMMARY:Lapsimessut\, Aurinkoo-konsertti
DESCRIPTION:
URL:https://mimmit.com/keikka/lapsimessut-aurinkoo-konsertti-3/
END:VEVENT
END:VCALENDAR